BEGIN:VCALENDAR
VERSION:2.0
PRODID:-//Northeast Tennessee - ECPv6.15.20//NONSGML v1.0//EN
CALSCALE:GREGORIAN
METHOD:PUBLISH
X-WR-CALNAME:Northeast Tennessee
X-ORIGINAL-URL:https://northeasttennessee.org
X-WR-CALDESC:Events for Northeast Tennessee
REFRESH-INTERVAL;VALUE=DURATION:PT1H
X-Robots-Tag:noindex
X-PUBLISHED-TTL:PT1H
BEGIN:VTIMEZONE
TZID:America/New_York
BEGIN:DAYLIGHT
TZOFFSETFROM:-0500
TZOFFSETTO:-0400
TZNAME:EDT
DTSTART:20250309T070000
END:DAYLIGHT
BEGIN:STANDARD
TZOFFSETFROM:-0400
TZOFFSETTO:-0500
TZNAME:EST
DTSTART:20251102T060000
END:STANDARD
BEGIN:DAYLIGHT
TZOFFSETFROM:-0500
TZOFFSETTO:-0400
TZNAME:EDT
DTSTART:20260308T070000
END:DAYLIGHT
BEGIN:STANDARD
TZOFFSETFROM:-0400
TZOFFSETTO:-0500
TZNAME:EST
DTSTART:20261101T060000
END:STANDARD
BEGIN:DAYLIGHT
TZOFFSETFROM:-0500
TZOFFSETTO:-0400
TZNAME:EDT
DTSTART:20270314T070000
END:DAYLIGHT
BEGIN:STANDARD
TZOFFSETFROM:-0400
TZOFFSETTO:-0500
TZNAME:EST
DTSTART:20271107T060000
END:STANDARD
END:VTIMEZONE
BEGIN:VEVENT
DTSTART;TZID=America/New_York:20260423T080000
DTEND;TZID=America/New_York:20260423T180000
DTSTAMP:20260421T180711
CREATED:20260219T195316Z
LAST-MODIFIED:20260317T131951Z
UID:105180-1776931200-1776967200@northeasttennessee.org
SUMMARY:33rd Annual Appalachian Antique Power Association and Farmer's Reunion
DESCRIPTION:Tractor enthusiasts from across the South will make a trip to Northeast Tennessee for the 33rd Annual Appalachian Antique Farm Show April 23-26 at the Appalachian Fairgrounds in Gray\, Tenn.\, hosted by the Tri-State Antique Power Association. \n\n\n\nIn an event that has grown to showcase hundreds of rare and popular tractors over the years\, including features from Brian Baxter with the RFDTV series Tractor Fever.  The agriculture inspired television network has featured the Appalachian Antique Farm Show and Northeast Tennessee for a number of years on the classic show dedicated to tractors\, enthusiasts and events across the United States. \n\n\n\nEach year the Appalachian Antique Farm Show is dedicated to a specific make\, model or style of tractor.  The 2026 Appalachian Antique Farm Show will feature the Farmall brand. Along with the featured tractors\, exhibits of all makes and models will include antique tractors\, steam\, gas\, hit and miss antique engines\, stationary steam engines\, threshing machines\, gristmill\, antique farm tools\, live steam saw mill\, belted equipment demonstrations and other farm related equipment. \n\n\n\n\n\nEach year the show features a specific make\, model or style of tractor.\n\n\n\n\n\nThe full weekend of activities include a flea market complete with arts and crafts\, antiques\, farm and tractor memorabilia\, commercial vendors\, new and used farm equipment parts within the swap meet area\, a quilt show and tradition inspired farm games such as a Skillet Throws and a Barn Dance. Other popular events include the Parade of Power throughout the Appalachian Fairgrounds\, various equipment demonstrations and the kiddie pedal tractor race and pull. \n\n\n\nAll exhibits will be open from 8 a.m. to 6 p.m. on Thursday\, Friday and Saturday\, and 8:30 a.m. to 2 p.m. on Sunday.  Admission is $5\, children ages 12 and under are free\, with a special senior rate of $4 on Thursday only. \n\n\n\n \nThe 33rd Annual Appalachian Antique Farm Show is hosted by the Tri-State Antique Power Association and sponsored by Food City. \n\n\n\n\n\nThe Tri-State Antique Power Association is a nonprofit organization dedicated to preserving agricultural history through the restoration of antique farm equipment. Tri-State Antique Power Association supports the St. Jude Children’s Research Hospital\, the Shriners Children’s Hospital for Crippled Children and other local charities including the Ronald McDonald House. TSAPA hosts the Annual Appalachian Antique Farm Show the last full weekend in April each year.
URL:https://northeasttennessee.org/event/33rd-annual-appalachian-antique-power-association-and-farmers-reunion/2026-04-23/
LOCATION:TN
CATEGORIES:Arts/Crafts,Car/Bike Shows,Children's Activities,Dance,Featured,Festivals,General,Historical Events,Shopping
END:VEVENT
BEGIN:VEVENT
DTSTART;TZID=America/New_York:20260424T080000
DTEND;TZID=America/New_York:20260424T180000
DTSTAMP:20260421T180711
CREATED:20260219T195316Z
LAST-MODIFIED:20260317T131951Z
UID:105183-1777017600-1777053600@northeasttennessee.org
SUMMARY:33rd Annual Appalachian Antique Power Association and Farmer's Reunion
DESCRIPTION:Tractor enthusiasts from across the South will make a trip to Northeast Tennessee for the 33rd Annual Appalachian Antique Farm Show April 23-26 at the Appalachian Fairgrounds in Gray\, Tenn.\, hosted by the Tri-State Antique Power Association. \n\n\n\nIn an event that has grown to showcase hundreds of rare and popular tractors over the years\, including features from Brian Baxter with the RFDTV series Tractor Fever.  The agriculture inspired television network has featured the Appalachian Antique Farm Show and Northeast Tennessee for a number of years on the classic show dedicated to tractors\, enthusiasts and events across the United States. \n\n\n\nEach year the Appalachian Antique Farm Show is dedicated to a specific make\, model or style of tractor.  The 2026 Appalachian Antique Farm Show will feature the Farmall brand. Along with the featured tractors\, exhibits of all makes and models will include antique tractors\, steam\, gas\, hit and miss antique engines\, stationary steam engines\, threshing machines\, gristmill\, antique farm tools\, live steam saw mill\, belted equipment demonstrations and other farm related equipment. \n\n\n\n\n\nEach year the show features a specific make\, model or style of tractor.\n\n\n\n\n\nThe full weekend of activities include a flea market complete with arts and crafts\, antiques\, farm and tractor memorabilia\, commercial vendors\, new and used farm equipment parts within the swap meet area\, a quilt show and tradition inspired farm games such as a Skillet Throws and a Barn Dance. Other popular events include the Parade of Power throughout the Appalachian Fairgrounds\, various equipment demonstrations and the kiddie pedal tractor race and pull. \n\n\n\nAll exhibits will be open from 8 a.m. to 6 p.m. on Thursday\, Friday and Saturday\, and 8:30 a.m. to 2 p.m. on Sunday.  Admission is $5\, children ages 12 and under are free\, with a special senior rate of $4 on Thursday only. \n\n\n\n \nThe 33rd Annual Appalachian Antique Farm Show is hosted by the Tri-State Antique Power Association and sponsored by Food City. \n\n\n\n\n\nThe Tri-State Antique Power Association is a nonprofit organization dedicated to preserving agricultural history through the restoration of antique farm equipment. Tri-State Antique Power Association supports the St. Jude Children’s Research Hospital\, the Shriners Children’s Hospital for Crippled Children and other local charities including the Ronald McDonald House. TSAPA hosts the Annual Appalachian Antique Farm Show the last full weekend in April each year.
URL:https://northeasttennessee.org/event/33rd-annual-appalachian-antique-power-association-and-farmers-reunion/2026-04-24/
LOCATION:TN
CATEGORIES:Arts/Crafts,Car/Bike Shows,Children's Activities,Dance,Featured,Festivals,General,Historical Events,Shopping
END:VEVENT
BEGIN:VEVENT
DTSTART;TZID=America/New_York:20260425T080000
DTEND;TZID=America/New_York:20260425T180000
DTSTAMP:20260421T180711
CREATED:20260219T195316Z
LAST-MODIFIED:20260317T131953Z
UID:105184-1777104000-1777140000@northeasttennessee.org
SUMMARY:33rd Annual Appalachian Antique Power Association and Farmer's Reunion
DESCRIPTION:Tractor enthusiasts from across the South will make a trip to Northeast Tennessee for the 33rd Annual Appalachian Antique Farm Show April 23-26 at the Appalachian Fairgrounds in Gray\, Tenn.\, hosted by the Tri-State Antique Power Association. \n\n\n\nIn an event that has grown to showcase hundreds of rare and popular tractors over the years\, including features from Brian Baxter with the RFDTV series Tractor Fever.  The agriculture inspired television network has featured the Appalachian Antique Farm Show and Northeast Tennessee for a number of years on the classic show dedicated to tractors\, enthusiasts and events across the United States. \n\n\n\nEach year the Appalachian Antique Farm Show is dedicated to a specific make\, model or style of tractor.  The 2026 Appalachian Antique Farm Show will feature the Farmall brand. Along with the featured tractors\, exhibits of all makes and models will include antique tractors\, steam\, gas\, hit and miss antique engines\, stationary steam engines\, threshing machines\, gristmill\, antique farm tools\, live steam saw mill\, belted equipment demonstrations and other farm related equipment. \n\n\n\n\n\nEach year the show features a specific make\, model or style of tractor.\n\n\n\n\n\nThe full weekend of activities include a flea market complete with arts and crafts\, antiques\, farm and tractor memorabilia\, commercial vendors\, new and used farm equipment parts within the swap meet area\, a quilt show and tradition inspired farm games such as a Skillet Throws and a Barn Dance. Other popular events include the Parade of Power throughout the Appalachian Fairgrounds\, various equipment demonstrations and the kiddie pedal tractor race and pull. \n\n\n\nAll exhibits will be open from 8 a.m. to 6 p.m. on Thursday\, Friday and Saturday\, and 8:30 a.m. to 2 p.m. on Sunday.  Admission is $5\, children ages 12 and under are free\, with a special senior rate of $4 on Thursday only. \n\n\n\n \nThe 33rd Annual Appalachian Antique Farm Show is hosted by the Tri-State Antique Power Association and sponsored by Food City. \n\n\n\n\n\nThe Tri-State Antique Power Association is a nonprofit organization dedicated to preserving agricultural history through the restoration of antique farm equipment. Tri-State Antique Power Association supports the St. Jude Children’s Research Hospital\, the Shriners Children’s Hospital for Crippled Children and other local charities including the Ronald McDonald House. TSAPA hosts the Annual Appalachian Antique Farm Show the last full weekend in April each year.
URL:https://northeasttennessee.org/event/33rd-annual-appalachian-antique-power-association-and-farmers-reunion/2026-04-25/
LOCATION:TN
CATEGORIES:Arts/Crafts,Car/Bike Shows,Children's Activities,Dance,Featured,Festivals,General,Historical Events,Shopping
END:VEVENT
BEGIN:VEVENT
DTSTART;TZID=America/New_York:20260425T170000
DTEND;TZID=America/New_York:20260425T200000
DTSTAMP:20260421T180711
CREATED:20260420T163216Z
LAST-MODIFIED:20260420T163216Z
UID:105773-1777136400-1777147200@northeasttennessee.org
SUMMARY:10th Annual Rogersville Bike Nite
DESCRIPTION:Rev your engines for the 10th Annual Rogersville Bike Nite! Join us Saturday\, April 25\, 2026\, from 5-8 p.m. in downtown Rogersville for live music and bikes\, with streets closing at 4 p.m. Explore local shops and enjoy special menus at downtown restaurants. This high-octane event will bring together motorcycle enthusiasts\, and local business for an unforgettable evening of chrome\, culture and community. Joins us on Main Street! For more information call 423-272-2186.
URL:https://northeasttennessee.org/event/10th-annual-rogersville-bike-nite/
LOCATION:Downtown Rogersville\, 107 E Main St #100\, Rogersville\, TN\, 37857\, United States
CATEGORIES:Car/Bike Shows,General,Sports
GEO:36.4073481;-83.0063841
X-APPLE-STRUCTURED-LOCATION;VALUE=URI;X-ADDRESS=Downtown Rogersville 107 E Main St #100 Rogersville TN 37857 United States;X-APPLE-RADIUS=500;X-TITLE=107 E Main St #100:geo:-83.0063841,36.4073481
END:VEVENT
BEGIN:VEVENT
DTSTART;TZID=America/New_York:20260426T083000
DTEND;TZID=America/New_York:20260426T140000
DTSTAMP:20260421T180711
CREATED:20260219T195316Z
LAST-MODIFIED:20260317T131955Z
UID:105185-1777192200-1777212000@northeasttennessee.org
SUMMARY:33rd Annual Appalachian Antique Power Association and Farmer's Reunion
DESCRIPTION:Tractor enthusiasts from across the South will make a trip to Northeast Tennessee for the 33rd Annual Appalachian Antique Farm Show April 23-26 at the Appalachian Fairgrounds in Gray\, Tenn.\, hosted by the Tri-State Antique Power Association. \n\n\n\nIn an event that has grown to showcase hundreds of rare and popular tractors over the years\, including features from Brian Baxter with the RFDTV series Tractor Fever.  The agriculture inspired television network has featured the Appalachian Antique Farm Show and Northeast Tennessee for a number of years on the classic show dedicated to tractors\, enthusiasts and events across the United States. \n\n\n\nEach year the Appalachian Antique Farm Show is dedicated to a specific make\, model or style of tractor.  The 2026 Appalachian Antique Farm Show will feature the Farmall brand. Along with the featured tractors\, exhibits of all makes and models will include antique tractors\, steam\, gas\, hit and miss antique engines\, stationary steam engines\, threshing machines\, gristmill\, antique farm tools\, live steam saw mill\, belted equipment demonstrations and other farm related equipment. \n\n\n\n\n\nEach year the show features a specific make\, model or style of tractor.\n\n\n\n\n\nThe full weekend of activities include a flea market complete with arts and crafts\, antiques\, farm and tractor memorabilia\, commercial vendors\, new and used farm equipment parts within the swap meet area\, a quilt show and tradition inspired farm games such as a Skillet Throws and a Barn Dance. Other popular events include the Parade of Power throughout the Appalachian Fairgrounds\, various equipment demonstrations and the kiddie pedal tractor race and pull. \n\n\n\nAll exhibits will be open from 8 a.m. to 6 p.m. on Thursday\, Friday and Saturday\, and 8:30 a.m. to 2 p.m. on Sunday.  Admission is $5\, children ages 12 and under are free\, with a special senior rate of $4 on Thursday only. \n\n\n\n \nThe 33rd Annual Appalachian Antique Farm Show is hosted by the Tri-State Antique Power Association and sponsored by Food City. \n\n\n\n\n\nThe Tri-State Antique Power Association is a nonprofit organization dedicated to preserving agricultural history through the restoration of antique farm equipment. Tri-State Antique Power Association supports the St. Jude Children’s Research Hospital\, the Shriners Children’s Hospital for Crippled Children and other local charities including the Ronald McDonald House. TSAPA hosts the Annual Appalachian Antique Farm Show the last full weekend in April each year.
URL:https://northeasttennessee.org/event/33rd-annual-appalachian-antique-power-association-and-farmers-reunion/2026-04-26/
LOCATION:TN
CATEGORIES:Arts/Crafts,Car/Bike Shows,Children's Activities,Dance,Featured,Festivals,General,Historical Events,Shopping
END:VEVENT
END:VCALENDAR